BEGIN:VCALENDAR
VERSION:2.0
PRODID:-//The Easy Street Big Band - ECPv6.15.20//NONSGML v1.0//EN
CALSCALE:GREGORIAN
METHOD:PUBLISH
X-ORIGINAL-URL:https://easystreetbigband.org
X-WR-CALDESC:Events for The Easy Street Big Band
REFRESH-INTERVAL;VALUE=DURATION:PT1H
X-Robots-Tag:noindex
X-PUBLISHED-TTL:PT1H
BEGIN:VTIMEZONE
TZID:America/New_York
BEGIN:DAYLIGHT
TZOFFSETFROM:-0500
TZOFFSETTO:-0400
TZNAME:EDT
DTSTART:20230312T070000
END:DAYLIGHT
BEGIN:STANDARD
TZOFFSETFROM:-0400
TZOFFSETTO:-0500
TZNAME:EST
DTSTART:20231105T060000
END:STANDARD
BEGIN:DAYLIGHT
TZOFFSETFROM:-0500
TZOFFSETTO:-0400
TZNAME:EDT
DTSTART:20240310T070000
END:DAYLIGHT
BEGIN:STANDARD
TZOFFSETFROM:-0400
TZOFFSETTO:-0500
TZNAME:EST
DTSTART:20241103T060000
END:STANDARD
BEGIN:DAYLIGHT
TZOFFSETFROM:-0500
TZOFFSETTO:-0400
TZNAME:EDT
DTSTART:20250309T070000
END:DAYLIGHT
BEGIN:STANDARD
TZOFFSETFROM:-0400
TZOFFSETTO:-0500
TZNAME:EST
DTSTART:20251102T060000
END:STANDARD
END:VTIMEZONE
BEGIN:VEVENT
DTSTART;TZID=America/New_York:20240525T184500
DTEND;TZID=America/New_York:20240525T191500
DTSTAMP:20260419T143000
CREATED:20180516T142642Z
LAST-MODIFIED:20231113T222325Z
UID:784-1716662700-1716664500@easystreetbigband.org
SUMMARY:Kleinhan's Community Spotlight Concert
DESCRIPTION:
URL:https://easystreetbigband.org/show/kleinhans-community-spotlight-concert/
LOCATION:Kleinhans Music Hall\, 3 Symphony Cir\, Buffalo\, NY\, 14201
CATEGORIES:Public
END:VEVENT
END:VCALENDAR